BEGIN:VCALENDAR
VERSION:2.0
PRODID:-//FFO - ECPv6.15.20//NONSGML v1.0//EN
CALSCALE:GREGORIAN
METHOD:PUBLISH
X-WR-CALNAME:FFO
X-ORIGINAL-URL:https://orthodontie-ffo.org
X-WR-CALDESC:Évènements pour FFO
REFRESH-INTERVAL;VALUE=DURATION:PT1H
X-Robots-Tag:noindex
X-PUBLISHED-TTL:PT1H
BEGIN:VTIMEZONE
TZID:Europe/Helsinki
BEGIN:DAYLIGHT
TZOFFSETFROM:+0200
TZOFFSETTO:+0300
TZNAME:EEST
DTSTART:20250330T010000
END:DAYLIGHT
BEGIN:STANDARD
TZOFFSETFROM:+0300
TZOFFSETTO:+0200
TZNAME:EET
DTSTART:20251026T010000
END:STANDARD
BEGIN:DAYLIGHT
TZOFFSETFROM:+0200
TZOFFSETTO:+0300
TZNAME:EEST
DTSTART:20260329T010000
END:DAYLIGHT
BEGIN:STANDARD
TZOFFSETFROM:+0300
TZOFFSETTO:+0200
TZNAME:EET
DTSTART:20261025T010000
END:STANDARD
BEGIN:DAYLIGHT
TZOFFSETFROM:+0200
TZOFFSETTO:+0300
TZNAME:EEST
DTSTART:20270328T010000
END:DAYLIGHT
BEGIN:STANDARD
TZOFFSETFROM:+0300
TZOFFSETTO:+0200
TZNAME:EET
DTSTART:20271031T010000
END:STANDARD
END:VTIMEZONE
BEGIN:VEVENT
DTSTART;VALUE=DATE:20260920
DTEND;VALUE=DATE:20260921
DTSTAMP:20260420T060742
CREATED:20251219T102830Z
LAST-MODIFIED:20251219T102830Z
UID:7524-1789862400-1789948799@orthodontie-ffo.org
SUMMARY:Formation AFC ODF - Diagnostic et thérapeutiques des classes II subdivisions
DESCRIPTION:Diagnostic\net thérapeutiques des classes II subdivisions \nFormateur référent\nLaurent DELSOL (Montpellier) \n\nSpécialiste qualifié en Orthopédie Dento-Faciale\nExercice libéral à Montpellier\nMaître de Conférences des Universités – Praticien Hospitalier\nD.U. d’Orthodontie Linguale Paris V\nTitulaire de L’European Board of Orthodontists\nTitulaire du Board Français d’orthodontie\nMembre titulaire de la Société Française d’Orthopédie Dento-Faciale\nMembre titulaire du Collège Européen d’Orthodontie\nMembre titulaire du TTD\n\nFormateurs référents\nMichel LE GALL (Marseille) \n\nSpécialiste qualifiée en ODF\, PU-PH\nHabilitation à diriger la Recherche\nDoctorat en Mécaniques énergétiques\nCoordonnateur interrégion Sud du DES d’ODF\nChef de service d’ODF – Hôpital de la Timone\, Marseille\nPrésident de la SFODF\n\nIndicateurs clés formation : Le taux global de satisfaction : 98\,7% de satisfaction des participants aux évènements organisés par l’AFC ODF en 2025 (sur 80 questionnaires reçus). \nPrérequis :\nDestinée aux professionnels de santé en exercice\, pratiquant des soins d’orthopédie dento-faciale. Pas d’autre prérequis. \nObjectifs généraux et contexte de la formation \n\nEffectuer un diagnostic étiologique et différentiel des classes II subdivisions\nMettre en place une thérapeutique adaptée en vue d’obtenir une occlusion stable et équilibrée\, aussi bien sur le plan fonctionnel qu’esthétique.\n\nA l’issue de cette formation\, vous aurez la capacité de : \n\nReconnaître les signes fonctionnels d’une classe II subdivision.\nFaire un diagnostic étiologique.\nMettre en place une stratégie de traitement d’ODF adaptée et efficace\, déterminer quels appareils sont à privilégier.\n\n\nRésumé de la formation \nLa prévalence des patients traités pour une malocclusion de classe II représente 60 % de nos traitements dont la moitié sont unilatérales strictes ou asymétriques.\nLe plan de traitement à mettre en place dans ces cas de classes II subdivisions doit être le résultat d’un diagnostic rigoureux.\nL’étiologie de la classe II unilatérale peut être due à une mésioposition du maxillaire ou plus fréquemment à une distoposition mandibulaire.\nCette dissymétrie de développement des maxillaires est toujours accompagnée d’une dysfonction de la mastication physiologique dont il faut tenir compte pour l’obtention d’une occlusion pérenne et équilibrée tant sur le plan esthétique que fonctionnel.\nC’est au travers de plusieurs exemples cliniques que nous étudierons les bienfaits d’une thérapeutique raisonnée sur ces situations asymétriques. \nPour accéder à cette formation\, il suffit de vous inscrire directement en ligne sur le site des formations de la SFODF :\nwww.afc-odf.fr\nUne fois l’inscription en ligne faite\, vous recevrez une réponse sous 48h. \n Patrocinadores
URL:https://orthodontie-ffo.org/evenement/diagnostic-et-therapeutiques-des-classes-ii-subdivisions/
LOCATION:AFC ODF\, 15 rue du Louvre\, Paris\, 75001\, France
CATEGORIES:Evènements des sociétés de la FFO
ATTACH;FMTTYPE=image/jpeg:https://orthodontie-ffo.org/wp-content/uploads/2025/12/26FORMODF_banniere-septembre_210x250.jpg
END:VEVENT
END:VCALENDAR