BEGIN:VCALENDAR
VERSION:2.0
PRODID:-//FFO - ECPv6.15.20//NONSGML v1.0//EN
CALSCALE:GREGORIAN
METHOD:PUBLISH
X-ORIGINAL-URL:https://orthodontie-ffo.org
X-WR-CALDESC:Évènements pour FFO
REFRESH-INTERVAL;VALUE=DURATION:PT1H
X-Robots-Tag:noindex
X-PUBLISHED-TTL:PT1H
BEGIN:VTIMEZONE
TZID:UTC
BEGIN:STANDARD
TZOFFSETFROM:+0000
TZOFFSETTO:+0000
TZNAME:UTC
DTSTART:20210101T000000
END:STANDARD
END:VTIMEZONE
BEGIN:VEVENT
DTSTART;VALUE=DATE:20221001
DTEND;VALUE=DATE:20221003
DTSTAMP:20260421T161102
CREATED:20220412T100122Z
LAST-MODIFIED:20250421T081306Z
UID:6028-1664582400-1664755199@orthodontie-ffo.org
SUMMARY:Séminaire CEPOG - Journée vérité
DESCRIPTION:Séminaire du CEPOG \nLe programme \nJournée vérité\nPrix CEPOG InternesJean-Louis Raymond\nOrthodontiste Spécialiste \nSAMEDI 4 JUIN au LUNDI 6 JUIN 2022 :\ncliquez-ici pour découvrir tout le programme de ces 3 jours
URL:https://orthodontie-ffo.org/evenement/seminaire-cepog-journee-verite/
LOCATION:Fontainebleau\, France
CATEGORIES:Evènements des sociétés de la FFO
ATTACH;FMTTYPE=image/jpeg:https://orthodontie-ffo.org/wp-content/uploads/2022/04/programme-CEPOG-1.jpg
ORGANIZER;CN="CEPOG":MAILTO:alex1.kerner@gmail.com
END:VEVENT
END:VCALENDAR