BEGIN:VCALENDAR
VERSION:2.0
PRODID:-//FFO - ECPv6.15.20//NONSGML v1.0//EN
CALSCALE:GREGORIAN
METHOD:PUBLISH
X-ORIGINAL-URL:https://orthodontie-ffo.org
X-WR-CALDESC:Évènements pour FFO
REFRESH-INTERVAL;VALUE=DURATION:PT1H
X-Robots-Tag:noindex
X-PUBLISHED-TTL:PT1H
BEGIN:VTIMEZONE
TZID:Europe/Helsinki
BEGIN:DAYLIGHT
TZOFFSETFROM:+0200
TZOFFSETTO:+0300
TZNAME:EEST
DTSTART:20210328T010000
END:DAYLIGHT
BEGIN:STANDARD
TZOFFSETFROM:+0300
TZOFFSETTO:+0200
TZNAME:EET
DTSTART:20211031T010000
END:STANDARD
BEGIN:DAYLIGHT
TZOFFSETFROM:+0200
TZOFFSETTO:+0300
TZNAME:EEST
DTSTART:20220327T010000
END:DAYLIGHT
BEGIN:STANDARD
TZOFFSETFROM:+0300
TZOFFSETTO:+0200
TZNAME:EET
DTSTART:20221030T010000
END:STANDARD
BEGIN:DAYLIGHT
TZOFFSETFROM:+0200
TZOFFSETTO:+0300
TZNAME:EEST
DTSTART:20230326T010000
END:DAYLIGHT
BEGIN:STANDARD
TZOFFSETFROM:+0300
TZOFFSETTO:+0200
TZNAME:EET
DTSTART:20231029T010000
END:STANDARD
END:VTIMEZONE
BEGIN:VEVENT
DTSTART;VALUE=DATE:20220922
DTEND;VALUE=DATE:20220923
DTSTAMP:20260421T174153
CREATED:20220420T131546Z
LAST-MODIFIED:20250421T081349Z
UID:6105-1663804800-1663891199@orthodontie-ffo.org
SUMMARY:Formation SFODF - La gestion des molaires condamnées. Fermeture ou maintien des espaces ? Comment les gérer dans notre pratique quotidienne ?
DESCRIPTION:La gestion des molaires condamnées.\nFermeture ou maintien des espaces ? Comment\nles gérer dans notre pratique quotidienne ? \nContenu pédagogique \nLa 1ère molaire reste la dent la plus fréquemment atteinte\, de par son éruption précoce ainsi que sa situation au niveau de l’arcade. Le pédodontiste rencontre parfois certaines difficultés à sa conservation. L’orthodontie devient alors une alternative au rétablissement de la continuité de l’arcade.L’extraction précoce permet un mésialage spontané des 2èmes et 3èmes molaires avec nécessité d’un redressement et d’un aménagement occlusal. \nL’extraction tardive offre deux alternatives : \n\nSoit elle s’insère dans une thérapeutique orthodontique globale et le gain de place permet la résolution de l’encombrement antérieur voire moyen ;\nSoit le maintien de l’espace d’extraction est nécessaire et l’orthodontie devient le moyen d’aménager cette arcade pour une solution implantaire\, prothétique classique voire une autotransplantation.\n\nAu travers de cet exposé\, nous envisagerons les différentes situations cliniques répondant au thème proposé. \nFormateur référent \nMichel LE GALL \n\nSpécialiste qualifié en ODF\, PU-PH\, HdR\nDoctorat en Mécaniques Energétiques\nCoordonnateur interrégion Sud du DES d’ODF\nChef de service hospitalo-universitaire d’orthopédie dento-faciale\nHôpital de la Timone Marseille\nPrésident de l’UFSBD 13\n\n Patrocinadores
URL:https://orthodontie-ffo.org/evenement/formation-sfodf-la-gestion-des-molaires-condamnees-fermeture-ou-maintien-des-espaces-comment-les-gerer-dans-notre-pratique-quotidienne/
LOCATION:SFODF\, 15 rue du Louvre\, Paris\, 75001\, France
CATEGORIES:Evènements des sociétés de la FFO
ATTACH;FMTTYPE=image/jpeg:https://orthodontie-ffo.org/wp-content/uploads/2022/04/SFODF-logo.jpg
END:VEVENT
END:VCALENDAR