BEGIN:VCALENDAR
VERSION:2.0
PRODID:-//FFO - ECPv6.15.20//NONSGML v1.0//EN
CALSCALE:GREGORIAN
METHOD:PUBLISH
X-ORIGINAL-URL:https://orthodontie-ffo.org
X-WR-CALDESC:Évènements pour FFO
REFRESH-INTERVAL;VALUE=DURATION:PT1H
X-Robots-Tag:noindex
X-PUBLISHED-TTL:PT1H
BEGIN:VTIMEZONE
TZID:UTC
BEGIN:STANDARD
TZOFFSETFROM:+0000
TZOFFSETTO:+0000
TZNAME:UTC
DTSTART:20210101T000000
END:STANDARD
END:VTIMEZONE
BEGIN:VEVENT
DTSTART;VALUE=DATE:20220919
DTEND;VALUE=DATE:20220920
DTSTAMP:20260421T174054
CREATED:20220412T095714Z
LAST-MODIFIED:20250421T081452Z
UID:6024-1663545600-1663631999@orthodontie-ffo.org
SUMMARY:Conférence webinar CEPOG - Intérêt de l'orthodontie systémique pour éviter les récidives
DESCRIPTION:Conférence Webinar du CEPOG \nLe programme \nIntérêt de l’orthodontie systémique pour éviter les récidivesJean-Louis Raymond\nOrthodontiste Spécialiste \nSAMEDI 4 JUIN au LUNDI 6 JUIN 2022 :\ncliquez-ici pour découvrir tout le programme de ces 3 jours \nTítulo Secundario \n¿Cómo se celebra el día de muertos?Eusmod tempor incididunt ut labore et dolore magna aliqua. Ut enim ad minim veniam\, quis nostrud exercitation ullamco laboris nisi ut aliquip ex ea commodo consequat. Duis aute irure dolor in reprehenderit in voluptate velit esse cillum dolore eu fugiat nulla pariatur. Sed ut perspiciatis unde omnis iste natus error sit voluptatem accusantium doloremque laudantium. \nVivamus vehicula felis eget lectus laoreet finibus. Pellentesque luctus odio sapien\, at suscipit mi malesuada non. Duis elementum cursus auctor. Morbi quis mattis tortor. Duis quis tortor sed sapien tincidunt ultrices tempor et ligula. Sed finibus\, sem elementum tincidunt tempor. \nEste es un encabezado pequeñoVestibulum ante ipsum primis in faucibus orci luctus et ultrices posuere cubilia Curae; Duis quis suscipit metus. Praesent suscipit purus nec efficitur interdum. Morbi eget vulputate massa. Etiam consequat dolor eget maximus dapibus. Ut tellus dolor\, dignissim sed sagittis sit amet\, vehicula non dui. \nDolor sit amet\, consectetuer adipiscing elit.Aliquam tincidunt mauris ficilis eu risus.Fugit sed quia consequuntur magni tusein.Vestibulum auctor dapibus et ons neque. Columna anidada con título y texto Vivamus vehicula felis eget lectus laoreet finibus. Pellentesque luctus odio sapien\, at suscipit mi malesuada non. Duis elementum cursus auctor. Morbi quis mattis tortor. Duis quis tortor sed sapien tincidunt ultrices tempor et ligula. \n Patrocinadores
URL:https://orthodontie-ffo.org/evenement/conference-webinar-cepog-interet-de-lorthodontie-systemique-pour-eviter-les-recidives/
LOCATION:Webinar\, France
CATEGORIES:Evènements des sociétés de la FFO
ATTACH;FMTTYPE=image/jpeg:https://orthodontie-ffo.org/wp-content/uploads/2022/04/programme-CEPOG-1.jpg
ORGANIZER;CN="CEPOG":MAILTO:alex1.kerner@gmail.com
END:VEVENT
END:VCALENDAR