BEGIN:VCALENDAR
VERSION:2.0
PRODID:-//FFO - ECPv6.15.20//NONSGML v1.0//EN
CALSCALE:GREGORIAN
METHOD:PUBLISH
X-WR-CALNAME:FFO
X-ORIGINAL-URL:https://orthodontie-ffo.org
X-WR-CALDESC:Évènements pour FFO
REFRESH-INTERVAL;VALUE=DURATION:PT1H
X-Robots-Tag:noindex
X-PUBLISHED-TTL:PT1H
BEGIN:VTIMEZONE
TZID:UTC
BEGIN:STANDARD
TZOFFSETFROM:+0000
TZOFFSETTO:+0000
TZNAME:UTC
DTSTART:20210101T000000
END:STANDARD
END:VTIMEZONE
BEGIN:VEVENT
DTSTART;VALUE=DATE:20220916
DTEND;VALUE=DATE:20220919
DTSTAMP:20260421T173822
CREATED:20220412T102748Z
LAST-MODIFIED:20250421T082104Z
UID:6040-1663286400-1663545599@orthodontie-ffo.org
SUMMARY:19es journées nationales SBR - l'ATM dans tous ses états
DESCRIPTION:19es Journées nationales SBR \nLe programme \nL’ATM dans tous ses étatsLes dysfonctions de l’ATM : la place des techniques manuelles\, kinésithérapiques ostéopathiques\nCaroline ALVARADO – kinésithérapeute maxillo-facial\, ostéopathe praticien libéral\, Lyon. \nIntérêt d’une prise en charge globale ortho-posturodontique chez le sportif de haut niveau.\nDr Mélanie BANA – Chirurgien dentiste des équipes de France de Handball. De 2008 à 2019 responsable du service dentaire de l’INSEP (Institut National du Sport\, de l’Expertise et la Performance). \nChargée d’enseignement :\n– au DIU de Posturologie Clinique de Paris VI (https://sofpel.com/diplome-inter-universitaire-de-posturologie-clinique/)\n– à l’Ecole de Posturologie Clinique (EPC) (https://formation-posturologie-clinique.net/)\n– au DU d’ostéopathie du sport et de la posture (https://holistea.fr/osteopathie-du-sport-et-de-la-posture/) \nDTM et conséquences médicales\nDr Jacques BOHAR – CDSQODF\, exercice libéral à Marseille \nPrévention des DTM\, facteurs de risques et présence de commorbidités\nDr Audrey CHANLON – CDSQODF \nGESTION DU STRESS DANS LES TROUBLES TEMPORO-MANDIBULAIRES\nDr Marc-Gérald CHOUKROUN. Spécialiste qualifié en ODF\, DU ODF\, rédacteur en chef de la revue de la SBR\, maitrise de psychologie (Paris Sorbonne)\, Du d’hypnose médicale. \nChirurgie des articulations temporo mandibulaires : Indications et résultat\nDr Anne Sabine COUSIN – Chirurgie Maxillo-Faciale et stomatologique\, chirurgie de l’articulation temporo mandibulaire \nAnthropologie et ATM\nDr Claire DESBOIS – Expert en anthropologie médico-légale près la cours d’appel de Lyon\, chirurgien dentiste. \nApproche neuro-musculaire de l’occlusion et réhabilitation orale\nFlorent DESTRUHAUT – Maître de Conférences des Universités – Praticien Hospitalier – Habilitation à diriger des recherches – Faculté de Santé de Toulouse\, Département d’Odontologie\, Université Paul Sabatier – Directeur adjoint de l’Unité de Recherche Universitaire Évolution et Santé orale\, URU EvolSan. \nTroubles temporo-mandibulaires et dysfonctions linguales : les liaisons dangereuses\nDr Muriel JEANTET : Diplomée de la Faculté de Médecine de Montpellier\, chirurgien dentiste spécialisée dans le diagnostic et le traitement des TTM\, certifiée d’Anatomie et d’Organogénèse\, practicienne nutrition GAPS \nMédecine sportive et ATM\nDr Marie LAFLEUR \nLes troubles temporo-mandibulaires et l’orthodontiste\nDr Wacyl MESNAY – Chirurgien-dentiste qualifié en orthopédie dento-faciale \nRéhabilitation des ATM par traitement pluridisciplinaire\nDr Jean-Luc OUHIOUN – CDSQODF \nArticulations temporo-mandibulaires et Orthèses d’avancée mandibulaire\, des amies\nDr Yves SOYER – SPQOD \nClôture du congrès \nTítulo Secundario \n¿Cómo se celebra el día de muertos?Eusmod tempor incididunt ut labore et dolore magna aliqua. Ut enim ad minim veniam\, quis nostrud exercitation ullamco laboris nisi ut aliquip ex ea commodo consequat. Duis aute irure dolor in reprehenderit in voluptate velit esse cillum dolore eu fugiat nulla pariatur. Sed ut perspiciatis unde omnis iste natus error sit voluptatem accusantium doloremque laudantium. \nVivamus vehicula felis eget lectus laoreet finibus. Pellentesque luctus odio sapien\, at suscipit mi malesuada non. Duis elementum cursus auctor. Morbi quis mattis tortor. Duis quis tortor sed sapien tincidunt ultrices tempor et ligula. Sed finibus\, sem elementum tincidunt tempor. \nEste es un encabezado pequeñoVestibulum ante ipsum primis in faucibus orci luctus et ultrices posuere cubilia Curae; Duis quis suscipit metus. Praesent suscipit purus nec efficitur interdum. Morbi eget vulputate massa. Etiam consequat dolor eget maximus dapibus. Ut tellus dolor\, dignissim sed sagittis sit amet\, vehicula non dui. \nDolor sit amet\, consectetuer adipiscing elit.Aliquam tincidunt mauris ficilis eu risus.Fugit sed quia consequuntur magni tusein.Vestibulum auctor dapibus et ons neque. Columna anidada con título y texto Vivamus vehicula felis eget lectus laoreet finibus. Pellentesque luctus odio sapien\, at suscipit mi malesuada non. Duis elementum cursus auctor. Morbi quis mattis tortor. Duis quis tortor sed sapien tincidunt ultrices tempor et ligula. \n Patrocinadores
URL:https://orthodontie-ffo.org/evenement/19es-journees-nationales-sbr-atm-dans-tous-ses-etats/
LOCATION:Impérial palace – Annecy\, Allée de l'Impérial\, Annecy\, 74000\, France
CATEGORIES:Evènements des sociétés de la FFO
ATTACH;FMTTYPE=image/jpeg:https://orthodontie-ffo.org/wp-content/uploads/2022/04/logo-SBR-pour-site.jpg
END:VEVENT
END:VCALENDAR