BEGIN:VCALENDAR
VERSION:2.0
PRODID:-//FFO - ECPv6.15.20//NONSGML v1.0//EN
CALSCALE:GREGORIAN
METHOD:PUBLISH
X-WR-CALNAME:FFO
X-ORIGINAL-URL:https://orthodontie-ffo.org
X-WR-CALDESC:Évènements pour FFO
REFRESH-INTERVAL;VALUE=DURATION:PT1H
X-Robots-Tag:noindex
X-PUBLISHED-TTL:PT1H
BEGIN:VTIMEZONE
TZID:Europe/Helsinki
BEGIN:DAYLIGHT
TZOFFSETFROM:+0200
TZOFFSETTO:+0300
TZNAME:EEST
DTSTART:20210328T010000
END:DAYLIGHT
BEGIN:STANDARD
TZOFFSETFROM:+0300
TZOFFSETTO:+0200
TZNAME:EET
DTSTART:20211031T010000
END:STANDARD
BEGIN:DAYLIGHT
TZOFFSETFROM:+0200
TZOFFSETTO:+0300
TZNAME:EEST
DTSTART:20220327T010000
END:DAYLIGHT
BEGIN:STANDARD
TZOFFSETFROM:+0300
TZOFFSETTO:+0200
TZNAME:EET
DTSTART:20221030T010000
END:STANDARD
BEGIN:DAYLIGHT
TZOFFSETFROM:+0200
TZOFFSETTO:+0300
TZNAME:EEST
DTSTART:20230326T010000
END:DAYLIGHT
BEGIN:STANDARD
TZOFFSETFROM:+0300
TZOFFSETTO:+0200
TZNAME:EET
DTSTART:20231029T010000
END:STANDARD
END:VTIMEZONE
BEGIN:VEVENT
DTSTART;VALUE=DATE:20220623
DTEND;VALUE=DATE:20220624
DTSTAMP:20260421T214101
CREATED:20220420T125615Z
LAST-MODIFIED:20250421T082203Z
UID:6099-1655942400-1656028799@orthodontie-ffo.org
SUMMARY:Formation SFODF - Dents incluses\, dents ankylosées\, défaut primaire d’éruption. Comment les gérer dans notre pratique quotidienne ?
DESCRIPTION:Dents incluses\, dents ankylosées\, défaut primaire d’éruption. Comment les gérer dans notre pratique quotidienne ? \n<p><strong>Contenu pédagogique</strong></p><p>Qu’une dent soit incluse\, ankylosée ou présentant un défaut primaire d’éruption\, sa mise en place sur l’arcade est toujours un défi pour l’orthodontiste. L’approche diagnostique\, au travers de l’imagerie (cone beam\, reconstruction 3D) et des nouvelles données acquises de la science\, nous permet de cibler au mieux la thérapeutique à mettre en oeuvre. Plusieurs attitudes sont envisageables : qu’elles soient purement chirurgicales ou chirurgico-orthodontiques\, elles requièrent une marche à suivre bien précise basée sur une mécanique adaptée et réfléchie avec l’aide de systèmes auxiliaires tels que les minivis afin d’optimiser au mieux le résultat. C’est au travers de nombreux cas cliniques que seront illustrées différentes situations.</p> \n<p><strong>Formateurs référents</strong></p><p><u>Michel LE GALL</u></p><ul><li>Spécialiste qualifié en ODF\, PU-PH\, HdR</li><li>Doctorat en Mécaniques Energétiques</li><li>Coordonnateur interrégion Sud du DES d’ODF</li><li>Chef de service hospitalo-universitaire d’orthopédie dento-faciale</li><li>Hôpital de la Timone Marseille</li><li>Président de l’UFSBD 13</li></ul><p><u>Charles DUBERNARD</u></p><ul><li>Spécialiste qualifié en ODF\, ancien AHU Montpellier</li><li>CECSMO Montpellier (2012)</li><li>Ancien interne</li><li>Exercice libéral à Aigues-Mortes (Gard)</li></ul> \n Patrocinadores
URL:https://orthodontie-ffo.org/evenement/formation-sfodf-dents-incluses-dents-ankylosees-defaut-primaire-deruption-comment-les-gerer-dans-notre-pratique-quotidienne/
LOCATION:SFODF\, 15 rue du Louvre\, Paris\, 75001\, France
CATEGORIES:Evènements des sociétés de la FFO
ATTACH;FMTTYPE=image/jpeg:https://orthodontie-ffo.org/wp-content/uploads/2022/04/SFODF-logo.jpg
END:VEVENT
END:VCALENDAR