BEGIN:VCALENDAR
VERSION:2.0
PRODID:-//FFO - ECPv6.15.20//NONSGML v1.0//EN
CALSCALE:GREGORIAN
METHOD:PUBLISH
X-WR-CALNAME:FFO
X-ORIGINAL-URL:https://orthodontie-ffo.org
X-WR-CALDESC:Évènements pour FFO
REFRESH-INTERVAL;VALUE=DURATION:PT1H
X-Robots-Tag:noindex
X-PUBLISHED-TTL:PT1H
BEGIN:VTIMEZONE
TZID:Europe/Helsinki
BEGIN:DAYLIGHT
TZOFFSETFROM:+0200
TZOFFSETTO:+0300
TZNAME:EEST
DTSTART:20210328T010000
END:DAYLIGHT
BEGIN:STANDARD
TZOFFSETFROM:+0300
TZOFFSETTO:+0200
TZNAME:EET
DTSTART:20211031T010000
END:STANDARD
BEGIN:DAYLIGHT
TZOFFSETFROM:+0200
TZOFFSETTO:+0300
TZNAME:EEST
DTSTART:20220327T010000
END:DAYLIGHT
BEGIN:STANDARD
TZOFFSETFROM:+0300
TZOFFSETTO:+0200
TZNAME:EET
DTSTART:20221030T010000
END:STANDARD
BEGIN:DAYLIGHT
TZOFFSETFROM:+0200
TZOFFSETTO:+0300
TZNAME:EEST
DTSTART:20230326T010000
END:DAYLIGHT
BEGIN:STANDARD
TZOFFSETFROM:+0300
TZOFFSETTO:+0200
TZNAME:EET
DTSTART:20231029T010000
END:STANDARD
END:VTIMEZONE
BEGIN:VEVENT
DTSTART;VALUE=DATE:20220603
DTEND;VALUE=DATE:20220607
DTSTAMP:20260421T213601
CREATED:20220301T153227Z
LAST-MODIFIED:20250421T082840Z
UID:5355-1654214400-1654559999@orthodontie-ffo.org
SUMMARY:53ème congrès du CEO
DESCRIPTION:53ème congrès du CEO à Carcassonne du 3 au 6 juin \nLe programme \n53ème congrès du CEO à Carcassonne du 3 au 6 juinVENDREDI 3 JUIN 2022\nLe cours précongrès : Antonin Hennequin\, Florent Destruhaut\, Julie Machuret.\nLes dysfonctions temporo-mandibulaires (DTM) en ODF : diagnostic et prise en charge thérapeutique. \nQuels sont les concepts actuels concernant la compréhension des DTM ? Quelles en sont les étiologies réelles ou supposées ? Sur quelle classification se baser et quelle doit être la démarche thérapeutique du praticien confronté à une DTM ? Quels traitements proposer et quels pronostics en attendre ? Ils vous proposeront une après-midi clinique avec cours et TP pour rationaliser\, simplifier le diagnostic et la prise en charge thérapeutique des DTM \nSAMEDI 4 JUIN au LUNDI 6 JUIN 2022 :\ncliquez-ici pour découvrir tout le programme de ces 3 jours \nTítulo Secundario \n¿Cómo se celebra el día de muertos?Eusmod tempor incididunt ut labore et dolore magna aliqua. Ut enim ad minim veniam\, quis nostrud exercitation ullamco laboris nisi ut aliquip ex ea commodo consequat. Duis aute irure dolor in reprehenderit in voluptate velit esse cillum dolore eu fugiat nulla pariatur. Sed ut perspiciatis unde omnis iste natus error sit voluptatem accusantium doloremque laudantium. \nVivamus vehicula felis eget lectus laoreet finibus. Pellentesque luctus odio sapien\, at suscipit mi malesuada non. Duis elementum cursus auctor. Morbi quis mattis tortor. Duis quis tortor sed sapien tincidunt ultrices tempor et ligula. Sed finibus\, sem elementum tincidunt tempor. \nEste es un encabezado pequeñoVestibulum ante ipsum primis in faucibus orci luctus et ultrices posuere cubilia Curae; Duis quis suscipit metus. Praesent suscipit purus nec efficitur interdum. Morbi eget vulputate massa. Etiam consequat dolor eget maximus dapibus. Ut tellus dolor\, dignissim sed sagittis sit amet\, vehicula non dui. \nDolor sit amet\, consectetuer adipiscing elit.Aliquam tincidunt mauris ficilis eu risus.Fugit sed quia consequuntur magni tusein.Vestibulum auctor dapibus et ons neque. Columna anidada con título y texto Vivamus vehicula felis eget lectus laoreet finibus. Pellentesque luctus odio sapien\, at suscipit mi malesuada non. Duis elementum cursus auctor. Morbi quis mattis tortor. Duis quis tortor sed sapien tincidunt ultrices tempor et ligula. \n Patrocinadores
URL:https://orthodontie-ffo.org/evenement/53eme-congres-du-ceo/
LOCATION:Centre des Congrès – Carcassonne\, Rue des 3 Couronnes\, Carcassonne\, 11000\, France
CATEGORIES:Evènements des sociétés de la FFO
ATTACH;FMTTYPE=image/jpeg:https://orthodontie-ffo.org/wp-content/uploads/2022/04/banniere-congres.jpg
END:VEVENT
END:VCALENDAR