BEGIN:VCALENDAR
VERSION:2.0
PRODID:-//FFO - ECPv6.15.20//NONSGML v1.0//EN
CALSCALE:GREGORIAN
METHOD:PUBLISH
X-WR-CALNAME:FFO
X-ORIGINAL-URL:https://orthodontie-ffo.org
X-WR-CALDESC:Évènements pour FFO
REFRESH-INTERVAL;VALUE=DURATION:PT1H
X-Robots-Tag:noindex
X-PUBLISHED-TTL:PT1H
BEGIN:VTIMEZONE
TZID:Europe/Helsinki
BEGIN:DAYLIGHT
TZOFFSETFROM:+0200
TZOFFSETTO:+0300
TZNAME:EEST
DTSTART:20250330T010000
END:DAYLIGHT
BEGIN:STANDARD
TZOFFSETFROM:+0300
TZOFFSETTO:+0200
TZNAME:EET
DTSTART:20251026T010000
END:STANDARD
BEGIN:DAYLIGHT
TZOFFSETFROM:+0200
TZOFFSETTO:+0300
TZNAME:EEST
DTSTART:20260329T010000
END:DAYLIGHT
BEGIN:STANDARD
TZOFFSETFROM:+0300
TZOFFSETTO:+0200
TZNAME:EET
DTSTART:20261025T010000
END:STANDARD
BEGIN:DAYLIGHT
TZOFFSETFROM:+0200
TZOFFSETTO:+0300
TZNAME:EEST
DTSTART:20270328T010000
END:DAYLIGHT
BEGIN:STANDARD
TZOFFSETFROM:+0300
TZOFFSETTO:+0200
TZNAME:EET
DTSTART:20271031T010000
END:STANDARD
END:VTIMEZONE
BEGIN:VEVENT
DTSTART;VALUE=DATE:20261001
DTEND;VALUE=DATE:20261002
DTSTAMP:20260420T072343
CREATED:20251219T103440Z
LAST-MODIFIED:20251219T103440Z
UID:7527-1790812800-1790899199@orthodontie-ffo.org
SUMMARY:Formation AFC ODF - Les Fentes Labio-Alvéolo-Palatines
DESCRIPTION:Les Fentes\nLabio-Alvéolo-Palatines \nFormatrices référentes\nCamille PHILIP-ALLIEZ (Marseille) \n\nSpécialiste qualifiée en Orthopédie Dento-Faciale\nPU-PH Orthodontie\, Marseille\nCECSMO Marseille\nAncien interne des Hôpitaux\nDU Fentes Labio-Palatines\nMembre du centre de compétence des Fentes labio-palatines\n Membre du Comité Scientifique de la FFO\nChercheur associé Laboratoire de Biomécanique Appliquée UMRT24 Aix Marseille Université / Université Gustave Eiffel\n\nFormateurs référents\nAurélie MAJOURAU-BOURIEZ (Paris) \n\nDocteur en Chirurgie Dentaire (Paris VII)\, Postgraduate Certificate in Orthodontics Master of Dental Sciences (University of Connecticut\, USA)\, Spécialiste qualifiée en Orthopédie Dento-Faciale\n Praticienne Attachée\, Hôpital Necker-Enfants Malades\, Service de Chirurgie Maxillo-faciale et Plastique\, Centre de Référence Fentes et Malformations Faciales (MAFACE)\n Exercice libéral ODF\, Boulogne (92)\n Présidente de la Commission des Fentes Labio-Palatines et membre du Comité Scientifique (FFO)\n Chargée de cours (module Orthodontie) au DU des Fentes Labio-Palatines à l’Université de Strasbourg\n\nIndicateurs clés formation : Le taux global de satisfaction : 98\,7% de satisfaction des participants aux évènements organisés par l’AFC ODF en 2025 (sur 80 questionnaires reçus). \nPrérequis :\nDestinée aux professionnels de santé en exercice\, pratiquant des soins d’orthopédie dento-faciale. Pas d’autre prérequis. \nObjectifs opérationnels et compétences visées \nA l’issue de cette formation\, vous aurez la capacité de : \n\n\n\nConnaître l’ensemble du calendrier thérapeutique de l’enfant né avec une fente afin d’agir au bon moment et de manière efficace en équipe avec le centre de référence/compétence MAFACE (en utilisant les ressources de la Filière Maladies Rares Tête Cou et ses réseaux de soins).\nComprendre le rôle fondamental de la chirurgie primaire fonctionnelle (avec une connaissance/respect de l’anatomie de l’enveloppe faciale) qui privilégie le rétablissement précoce de la ventilation nasale et la déglutition\, ainsi que de la mastication et la phonation pour une croissance maxillo-faciale harmonieuse.\nÉtablir un diagnostic précis et définir un plan de traitement individualisé en collaboration étroite avec le centre de référence ou de compétence pour chaque patient avec des objectifs spécifiques à court\, moyen et long terme avec une stratégie interdisciplinaire en impliquant le patient et ses parents.\nPrendre en charge sur le plan clinique et pratique des patients porteurs de fentes depuis la préparation orthodontique à la greffe osseuse en denture temporaire vers l’âge de 4\,5 ans\, au traitement interceptif en denture mixte\, au traitement orthodontique en denture permanente (en réévaluant l’indication d’ouvrir ou de fermer l’espace en cas d’agénésie dentaire et d’une chirurgie orthognathique dans le cas d’une croissance maxillo-faciale défavorable)\, jusqu’à la mise en place d’une contention rigoureuse en coordonnant quand nécessaire la réhabilitation prothétique.\nDe connaître la prise en charge spécifique des patients porteurs de fentes sur le plan administratif (NGAP).\n\n\n\n\nRésumé de la formation \nLes fentes labio-palatines représentent la malformation faciale la plus fréquente avec 1/700 naissances et nécessitent dans 100 % des cas une prise en charge orthodontique en collaboration avec l’équipe pluridisciplinaire.\nLe projet thérapeutique de prise en charge des patients nés avec une fente est en effet pluri/inter/transdisciplinaire et nécessite la collaboration/\ncoordination étroite de l’équipe soignante composée de chirurgiens plasticiens et maxillo-faciaux\, psychologues\, pédiatres\, généticiens\, infirmières\, orthophonistes\, ORL\, pédodontistes\, orthodontistes\, chirurgiens-dentistes\, kinésithérapeutes avec une approche centrée sur le patient.\nL’objectif commun est de rétablir les fonctions tout en restaurant l’esthétique du visage et du sourire selon un timing idéal pour obtenir\nune croissance maxillo-faciale la plus harmonieuse possible et une intégration sociale optimale du patient porteur de fente.\nLes progrès de la chirurgie primaire attachée à respecter l’anatomie et restaurer les fonctions précocement et la réalisation de la greffe\nosseuse alvéolaire vers l’âge de 5 ans avant l’arrivée des incisives définitives ont considérablement simplifié la prise en charge orthodontique\net le parcours de soins des patients porteurs de fentes depuis l’enfance jusqu’à l’âge adulte.\nLes anomalies dentaires de nombre et de forme\, la présence fréquente d’une hypomaxillie en relation avec le nombre d’agénésies dentaires et la sévérité initiale de la malformation exigent la mise en oeuvre d’ un traitement personnalisé pour chacun.\nCette formation illustrée par de très nombreux cas cliniques documentés depuis la naissance jusqu’à l’âge adulte permettra au praticien de comprendre l’intérêt de la PEC du patient né avec une fente et de savoir comment le traiter en respectant une approche pluri/inter/transdisciplinaire pour lui permettre d’obtenir un résultat esthétique et fonctionnel optimal. \nPour accéder à cette formation\, il suffit de vous inscrire directement en ligne sur le site des formations de la SFODF :\nwww.afc-odf.fr\nUne fois l’inscription en ligne faite\, vous recevrez une réponse sous 48h. \n Patrocinadores
URL:https://orthodontie-ffo.org/evenement/les-fentes-labio-alveolo-palatines/
LOCATION:AFC ODF\, 15 rue du Louvre\, Paris\, 75001\, France
CATEGORIES:Evènements des sociétés de la FFO
ATTACH;FMTTYPE=image/jpeg:https://orthodontie-ffo.org/wp-content/uploads/2025/12/26FORMODF_banniere-octobre_210x250.jpg
END:VEVENT
END:VCALENDAR