BEGIN:VCALENDAR
VERSION:2.0
PRODID:-//FFO - ECPv6.15.20//NONSGML v1.0//EN
CALSCALE:GREGORIAN
METHOD:PUBLISH
X-ORIGINAL-URL:https://orthodontie-ffo.org
X-WR-CALDESC:Évènements pour FFO
REFRESH-INTERVAL;VALUE=DURATION:PT1H
X-Robots-Tag:noindex
X-PUBLISHED-TTL:PT1H
BEGIN:VTIMEZONE
TZID:Europe/Helsinki
BEGIN:DAYLIGHT
TZOFFSETFROM:+0200
TZOFFSETTO:+0300
TZNAME:EEST
DTSTART:20250330T010000
END:DAYLIGHT
BEGIN:STANDARD
TZOFFSETFROM:+0300
TZOFFSETTO:+0200
TZNAME:EET
DTSTART:20251026T010000
END:STANDARD
BEGIN:DAYLIGHT
TZOFFSETFROM:+0200
TZOFFSETTO:+0300
TZNAME:EEST
DTSTART:20260329T010000
END:DAYLIGHT
BEGIN:STANDARD
TZOFFSETFROM:+0300
TZOFFSETTO:+0200
TZNAME:EET
DTSTART:20261025T010000
END:STANDARD
BEGIN:DAYLIGHT
TZOFFSETFROM:+0200
TZOFFSETTO:+0300
TZNAME:EEST
DTSTART:20270328T010000
END:DAYLIGHT
BEGIN:STANDARD
TZOFFSETFROM:+0300
TZOFFSETTO:+0200
TZNAME:EET
DTSTART:20271031T010000
END:STANDARD
END:VTIMEZONE
BEGIN:VEVENT
DTSTART;VALUE=DATE:20260208
DTEND;VALUE=DATE:20260209
DTSTAMP:20260420T032722
CREATED:20251219T101015Z
LAST-MODIFIED:20251219T101015Z
UID:7514-1770508800-1770595199@orthodontie-ffo.org
SUMMARY:Formation AFC ODF - Formation obligatoire à la radioprotection des patients
DESCRIPTION:Formation obligatoire à la radioprotection des patients \nFormateur référent\nJean-Michel FOUCART (Paris) \n\nDocteur en Chirurgie Dentaire\, Spécialiste qualifié en Orthopédie Dento-Faciale et Orthodontie\nMaître de Conférence des Universités – Praticien Hospitalier des CSERD\nAttaché Hospitalier de l’Hôtel Dieu de Paris (AP-HP)\nDoctorat d’Université en Sciences de la Vie et de la Santé\nDiplôme Universitaire en droit du dommage corporel et indemnisation\nLauréat de l’Académie Nationale de Chirurgie Dentaire\nExpert près la Cour d’Appel de Versailles\n\nFormateurs référents\nMichel LE GALL (Marseille) \n\nSpécialiste qualifiée en ODF\, PU-PH\nHabilitation à diriger la Recherche\nDoctorat en Mécaniques énergétiques\nCoordonnateur interrégion Sud du DES d’ODF\nChef de service d’ODF – Hôpital de la Timone\, Marseille\nPrésident de la SFODF\n\nIndicateurs clés formation : Le taux global de satisfaction : 98\,7% de satisfaction des participants aux évènements organisés par l’AFC ODF en 2025 (sur 80 questionnaires reçus). \nPrérequis :\nDestinée aux professionnels de santé en exercice\, pratiquant des soins d’orthopédie dento-faciale. Pas d’autre prérequis. \nObjectifs opérationnels et compétences visées \nA l’issue de cette formation\, vous aurez la capacité de : \n\n\n\nReconnaître les composants des risques inhérents aux rayonnements ionisants dans le domaine médical.\nAppliquer la réglementation.\nMettre en oeuvre de façon opérationnelle les principes de justification et d’optimisation des expositions.\nAméliorer sa pratique pour le bénéfice du patient.\n\n\n\n\nContenu pédagogique \nIntroduction et présentation\nModule 1 : Réglementation\nOrigine de la réglementation / Respect de la réglementation\nÀ la fin de ce module\, les participants seront capables d’identifier les exigences réglementaires en matière de gestion des risques associés aux rayonnements ionisants et en termes d’évaluation des pratiques professionnelles. \nModule 2 : Connaissance du risque\nSituations à risque / Dysfonctionnements possibles / Exigences réglementaires en matière de gestion des risques\nÀ la fin de ce module\, les participants seront capables d’informer et d’impliquer le patient\, d’identifier les situations à risque associées aux rayonnements ionisants et d’identifier les dysfonctionnements possibles. \nModule 3 : Justification\nExigences réglementaires / Choix du type de cliché\nÀ la fin de ce module\, les participants seront capables d’identifier les exigences réglementaires en matière de justification des expositions et de justifier le choix du type de cliché. \nModule 4 : Optimisation\nExigences réglementaires / Procédures de réalisation\nÀ la fin de ce module\, les participants seront capables d’identifier les exigences réglementaires en matière d’optimisation des expositions et d’optimiser le choix des procédures des examens radiologiques. \nModule 5 : Analyse des pratiques professionnelles\nOutils d’EPP / Evaluation et amélioration des pratiques individuelles\nÀ la fin de ce module\, les participants seront capables d’identifier les outils d’évaluation des pratiques professionnelles et d’appliquer des actions d’amélioration des pratiques professionnelles. \nPour accéder à cette formation\, il suffit de vous inscrire directement en ligne sur le site des formations de la SFODF :\nwww.afc-odf.fr\nUne fois l’inscription en ligne faite\, vous recevrez une réponse sous 48h. \n Patrocinadores
URL:https://orthodontie-ffo.org/evenement/radioprotection/
LOCATION:AFC ODF\, 15 rue du Louvre\, Paris\, 75001\, France
CATEGORIES:Evènements des sociétés de la FFO
ATTACH;FMTTYPE=image/jpeg:https://orthodontie-ffo.org/wp-content/uploads/2025/12/25FORMODF_banniere-fevrier_210x250.jpg
END:VEVENT
END:VCALENDAR